BEGIN:VCALENDAR
VERSION:2.0
PRODID:-//Matteo Giuliani Díez - ECPv6.0.7.1//NONSGML v1.0//EN
CALSCALE:GREGORIAN
METHOD:PUBLISH
X-ORIGINAL-URL:https://www.matteogiuliani.com
X-WR-CALDESC:Events for Matteo Giuliani Díez
REFRESH-INTERVAL;VALUE=DURATION:PT1H
X-Robots-Tag:noindex
X-PUBLISHED-TTL:PT1H
BEGIN:VTIMEZONE
TZID:Europe/Paris
BEGIN:DAYLIGHT
TZOFFSETFROM:+0100
TZOFFSETTO:+0200
TZNAME:CEST
DTSTART:20180325T010000
END:DAYLIGHT
BEGIN:STANDARD
TZOFFSETFROM:+0200
TZOFFSETTO:+0100
TZNAME:CET
DTSTART:20181028T010000
END:STANDARD
END:VTIMEZONE
BEGIN:VEVENT
DTSTART;TZID=Europe/Paris:20180911T130000
DTEND;TZID=Europe/Paris:20180911T143000
DTSTAMP:20260424T053322
CREATED:20211231T160127Z
LAST-MODIFIED:20211231T160127Z
UID:5786-1536670800-1536676200@www.matteogiuliani.com
SUMMARY:Javier Comesaña y Matteo Giuliani
DESCRIPTION:Javier Comesaña violín / Matteo Giuliani piano\nLOS JÓVENES ARTISTAS JAVIER COMESAÑA Y MATTEO GIULIANI ABRIRÁN EL XV CICLO DE MÚSICA EN EL PATIO\nReal Alcázar de Sevilla\n\nPrograma El paso del tiempo a través de la música\n\nJOHANNES BRAHMS (1833-1897)\, Sonata para violín y piano nº 2 en La Mayor op.100 Allegro amabile Andante tranquillo Allegretto grazioso (quasi Andante)\n\nGUILLAUME LEKEU (1870-1894)\, Sonata para violín y piano en Sol Mayor Très modéré-Vif et passioné Très lent Très animé
URL:https://www.matteogiuliani.com/event/javier-comesana-y-matteo-giuliani/
LOCATION:Madrid
END:VEVENT
END:VCALENDAR