BEGIN:VCALENDAR
VERSION:2.0
PRODID:-//Matteo Giuliani Díez - ECPv6.0.7.1//NONSGML v1.0//EN
CALSCALE:GREGORIAN
METHOD:PUBLISH
X-ORIGINAL-URL:https://www.matteogiuliani.com
X-WR-CALDESC:Events for Matteo Giuliani Díez
REFRESH-INTERVAL;VALUE=DURATION:PT1H
X-Robots-Tag:noindex
X-PUBLISHED-TTL:PT1H
BEGIN:VTIMEZONE
TZID:Europe/Paris
BEGIN:DAYLIGHT
TZOFFSETFROM:+0100
TZOFFSETTO:+0200
TZNAME:CEST
DTSTART:20210328T010000
END:DAYLIGHT
BEGIN:STANDARD
TZOFFSETFROM:+0200
TZOFFSETTO:+0100
TZNAME:CET
DTSTART:20211031T010000
END:STANDARD
END:VTIMEZONE
BEGIN:VEVENT
DTSTART;TZID=Europe/Paris:20210426T193000
DTEND;TZID=Europe/Paris:20210426T220000
DTSTAMP:20260422T061337
CREATED:20211231T144949Z
LAST-MODIFIED:20230420T171025Z
UID:5768-1619465400-1619474400@www.matteogiuliani.com
SUMMARY:Concierto en el Auditorio Nacional de Madrid\, sala de cámara\, fundación Scherzo
DESCRIPTION:L. V. BEETHOVEN\nSonata nº1 op.10 \nF. LISZT \nAprès une Lecture du Dante \nS. RACHMANINOV \nSonata nº2\, segunda versión \nI. STRAVINSKY \nPájaro de Fuego (Danza infernal\, Berceuse\, Final)
URL:https://www.matteogiuliani.com/event/concierto-en-el-auditorio-nacional-de-madrid-sala-sinfonica/
LOCATION:Auditorio Nacional – Madrid\, C. del Príncipe de Vergara\, 146\, Madrid\, Madrid\, 28002\, Spain
ATTACH;FMTTYPE=image/jpeg:https://www.matteogiuliani.com/wp-content/uploads/2021/01/biSITvyJ.jpg
END:VEVENT
END:VCALENDAR