BEGIN:VCALENDAR
VERSION:2.0
PRODID:-//Matteo Giuliani Díez - ECPv6.0.7.1//NONSGML v1.0//EN
CALSCALE:GREGORIAN
METHOD:PUBLISH
X-WR-CALNAME:Matteo Giuliani Díez
X-ORIGINAL-URL:https://www.matteogiuliani.com
X-WR-CALDESC:Events for Matteo Giuliani Díez
REFRESH-INTERVAL;VALUE=DURATION:PT1H
X-Robots-Tag:noindex
X-PUBLISHED-TTL:PT1H
BEGIN:VTIMEZONE
TZID:Europe/Paris
BEGIN:DAYLIGHT
TZOFFSETFROM:+0100
TZOFFSETTO:+0200
TZNAME:CEST
DTSTART:20220327T010000
END:DAYLIGHT
BEGIN:STANDARD
TZOFFSETFROM:+0200
TZOFFSETTO:+0100
TZNAME:CET
DTSTART:20221030T010000
END:STANDARD
END:VTIMEZONE
BEGIN:VEVENT
DTSTART;TZID=Europe/Paris:20220313T113000
DTEND;TZID=Europe/Paris:20220313T133000
DTSTAMP:20260421T162217
CREATED:20211229T181246Z
LAST-MODIFIED:20220324T204828Z
UID:5596-1647171000-1647178200@www.matteogiuliani.com
SUMMARY:Auditorio Nacional\, Madrid (Spain)
DESCRIPTION:ORQUESTA SINFÓNICA UPM\nCORO DE LA UNIVERSIDAD POLITÉCNICA DE MADRID\nDirector Coro:\nJavier Corcuera \nSolistas:\nCristina Teijeiro\, Soprano\nMarta de Andrés\, Mezzosoprano\nIgor Peral\, Tenor\nAlberto Camón\, Bajo \nDirector\nAlejandro Cantalapiedra \nPROGRAMA \nS. Rachmaninov\nConcierto para piano nº 2 en Do menor Op.18\nSolista: Matteo Giuliani \nLudwig van Beethoven\nSinfonía número 9 en re menor Op.125
URL:https://www.matteogiuliani.com/event/concierto-en-el-auditorio-nacional-de-madrid/
LOCATION:Auditorio Nacional – Madrid\, C. del Príncipe de Vergara\, 146\, Madrid\, Madrid\, 28002\, Spain
ATTACH;FMTTYPE=image/jpeg:https://www.matteogiuliani.com/wp-content/uploads/Auditorio-Nacional-Rach.jpeg
END:VEVENT
END:VCALENDAR