BEGIN:VCALENDAR
VERSION:2.0
PRODID:-//Matteo Giuliani Díez - ECPv6.0.7.1//NONSGML v1.0//EN
CALSCALE:GREGORIAN
METHOD:PUBLISH
X-ORIGINAL-URL:https://www.matteogiuliani.com
X-WR-CALDESC:Events for Matteo Giuliani Díez
REFRESH-INTERVAL;VALUE=DURATION:PT1H
X-Robots-Tag:noindex
X-PUBLISHED-TTL:PT1H
BEGIN:VTIMEZONE
TZID:Europe/Paris
BEGIN:DAYLIGHT
TZOFFSETFROM:+0100
TZOFFSETTO:+0200
TZNAME:CEST
DTSTART:20220327T010000
END:DAYLIGHT
BEGIN:STANDARD
TZOFFSETFROM:+0200
TZOFFSETTO:+0100
TZNAME:CET
DTSTART:20221030T010000
END:STANDARD
END:VTIMEZONE
BEGIN:VEVENT
DTSTART;TZID=Europe/Paris:20220327T170000
DTEND;TZID=Europe/Paris:20220327T183000
DTSTAMP:20260421T162359
CREATED:20220131T134039Z
LAST-MODIFIED:20220214T130953Z
UID:5932-1648400400-1648405800@www.matteogiuliani.com
SUMMARY:Recital in Bastia Umbra (PG\, Italy)
DESCRIPTION:
URL:https://www.matteogiuliani.com/event/recital-a-bastia-umbra-pg-italia/
LOCATION:Auditorium Sant’Angelo\, Piazza Umberto I\, Bastia Umbra PG\, Umbria\, 06083\, Italy
ATTACH;FMTTYPE=image/jpeg:https://www.matteogiuliani.com/wp-content/uploads/Auditorium-SantAngelo-Bastia-Umbra.jpg
END:VEVENT
END:VCALENDAR