BEGIN:VCALENDAR
VERSION:2.0
PRODID:-//Matteo Giuliani Díez - ECPv6.0.7.1//NONSGML v1.0//EN
CALSCALE:GREGORIAN
METHOD:PUBLISH
X-ORIGINAL-URL:https://www.matteogiuliani.com
X-WR-CALDESC:Events for Matteo Giuliani Díez
REFRESH-INTERVAL;VALUE=DURATION:PT1H
X-Robots-Tag:noindex
X-PUBLISHED-TTL:PT1H
BEGIN:VTIMEZONE
TZID:Europe/Paris
BEGIN:DAYLIGHT
TZOFFSETFROM:+0100
TZOFFSETTO:+0200
TZNAME:CEST
DTSTART:20180325T010000
END:DAYLIGHT
BEGIN:STANDARD
TZOFFSETFROM:+0200
TZOFFSETTO:+0100
TZNAME:CET
DTSTART:20181028T010000
END:STANDARD
END:VTIMEZONE
BEGIN:VEVENT
DTSTART;TZID=Europe/Paris:20181108T080000
DTEND;TZID=Europe/Paris:20181108T170000
DTSTAMP:20260424T013541
CREATED:20211231T162501Z
LAST-MODIFIED:20211231T162501Z
UID:5805-1541664000-1541696400@www.matteogiuliani.com
SUMMARY:Recital en la Fundación el Instante
DESCRIPTION:
URL:https://www.matteogiuliani.com/event/recital-en-la-fundacion-el-instante/
LOCATION:Madrid
END:VEVENT
BEGIN:VEVENT
DTSTART;TZID=Europe/Paris:20181111T133000
DTEND;TZID=Europe/Paris:20181111T143000
DTSTAMP:20260424T013541
CREATED:20211231T162402Z
LAST-MODIFIED:20211231T162402Z
UID:5803-1541943000-1541946600@www.matteogiuliani.com
SUMMARY:Recital en el Real Sitio de La Granja de San Ildefonso. Casa de las Flores.
DESCRIPTION:Recital en el Real Sitio de La Granja de San Ildefonso. Casa de las Flores. \nLas Casa de las Flores\, Granja de San Ildefonso – Segovia
URL:https://www.matteogiuliani.com/event/recital-en-el-real-sitio-de-la-granja-de-san-ildefonso-casa-de-las-flores-2/
LOCATION:Madrid
END:VEVENT
BEGIN:VEVENT
DTSTART;TZID=Europe/Paris:20181127T080000
DTEND;TZID=Europe/Paris:20181127T170000
DTSTAMP:20260424T013541
CREATED:20211231T162241Z
LAST-MODIFIED:20211231T162241Z
UID:5801-1543305600-1543338000@www.matteogiuliani.com
SUMMARY:Canarias - Festival de Música en Otoño 2018
DESCRIPTION:Museo Canario – Las Palmas de Gran Canaria
URL:https://www.matteogiuliani.com/event/canarias-festival-de-musica-en-otono-2018/
LOCATION:Madrid
END:VEVENT
BEGIN:VEVENT
DTSTART;TZID=Europe/Paris:20181129T080000
DTEND;TZID=Europe/Paris:20181129T170000
DTSTAMP:20260424T013541
CREATED:20211231T160454Z
LAST-MODIFIED:20211231T160454Z
UID:5788-1543478400-1543510800@www.matteogiuliani.com
SUMMARY:Recital de piano en Torrelaguna
DESCRIPTION:
URL:https://www.matteogiuliani.com/event/recital-de-piano-en-torrelaguna/
LOCATION:Madrid
END:VEVENT
END:VCALENDAR