BEGIN:VCALENDAR
VERSION:2.0
PRODID:-//Matteo Giuliani Díez - ECPv6.0.7.1//NONSGML v1.0//EN
CALSCALE:GREGORIAN
METHOD:PUBLISH
X-ORIGINAL-URL:https://www.matteogiuliani.com
X-WR-CALDESC:Events for Matteo Giuliani Díez
REFRESH-INTERVAL;VALUE=DURATION:PT1H
X-Robots-Tag:noindex
X-PUBLISHED-TTL:PT1H
BEGIN:VTIMEZONE
TZID:Europe/Paris
BEGIN:DAYLIGHT
TZOFFSETFROM:+0100
TZOFFSETTO:+0200
TZNAME:CEST
DTSTART:20210328T010000
END:DAYLIGHT
BEGIN:STANDARD
TZOFFSETFROM:+0200
TZOFFSETTO:+0100
TZNAME:CET
DTSTART:20211031T010000
END:STANDARD
END:VTIMEZONE
BEGIN:VEVENT
DTSTART;TZID=Europe/Paris:20210321T080000
DTEND;TZID=Europe/Paris:20210321T170000
DTSTAMP:20260422T072915
CREATED:20211231T161740Z
LAST-MODIFIED:20211231T162835Z
UID:5793-1616313600-1616346000@www.matteogiuliani.com
SUMMARY:Recital de piano en León\, Fundación Eutherpe
DESCRIPTION:J.S. Bach\nPreludio y Fuga 11 en Fa Mayor\, primer libro\n\nL.van Beethoven\n\nSonata op. 10. nº1 en Do Menor\n\nF. Liszt\n\nAprès une Lecture du Dante\n\nE. Granados\n\nEl Amor y la Muerte (perteneciente a la suite Goyescas)\n\nS. Rachmaninov\n\nEstudio op. 33 nº7 en Mi b Mayor.\n\nSonata nº2\, segunda versión\n\nI. Stravinsky\n\nTranscripción de G. Agosti del Pájaro de fuego (Danza infernal\, Berceuse\, Finale)
URL:https://www.matteogiuliani.com/event/recital-de-piano-en-leon-fundacion-eutherpe/
LOCATION:Madrid
END:VEVENT
END:VCALENDAR