BEGIN:VCALENDAR
VERSION:2.0
PRODID:-//Matteo Giuliani Díez - ECPv6.0.7.1//NONSGML v1.0//EN
CALSCALE:GREGORIAN
METHOD:PUBLISH
X-ORIGINAL-URL:https://www.matteogiuliani.com
X-WR-CALDESC:Events for Matteo Giuliani Díez
REFRESH-INTERVAL;VALUE=DURATION:PT1H
X-Robots-Tag:noindex
X-PUBLISHED-TTL:PT1H
BEGIN:VTIMEZONE
TZID:Europe/Paris
BEGIN:DAYLIGHT
TZOFFSETFROM:+0100
TZOFFSETTO:+0200
TZNAME:CEST
DTSTART:20220327T010000
END:DAYLIGHT
BEGIN:STANDARD
TZOFFSETFROM:+0200
TZOFFSETTO:+0100
TZNAME:CET
DTSTART:20221030T010000
END:STANDARD
END:VTIMEZONE
BEGIN:VEVENT
DTSTART;TZID=Europe/Paris:20220227T180000
DTEND;TZID=Europe/Paris:20220227T193000
DTSTAMP:20260421T162359
CREATED:20220131T133907Z
LAST-MODIFIED:20220324T111908Z
UID:5930-1645984800-1645990200@www.matteogiuliani.com
SUMMARY:Recital in Foligno (PG\, Italy)
DESCRIPTION:
URL:https://www.matteogiuliani.com/event/recital-a-foligno-pg-italia/
LOCATION:Auditorium San Domenico\, via Federico Frezzi\, 6/8\, Foligno PG\, Umbria\, 06034\, Italy
ATTACH;FMTTYPE=image/jpeg:https://www.matteogiuliani.com/wp-content/uploads/Foligno.jpeg
END:VEVENT
END:VCALENDAR